Workbook
Name Scoring: 'Rapport van bevindingen DGC'!$C$119:$C$121
Name Scoring: #REF!
Name Scoring1: 'Rapport van bevindingen DGC'!$C$119:$C$122
Name Scoring1: #REF!
Name Scoring2: 'Rapport van bevindingen DGC'!$C$119:$C$124
Name Scoring2: #REF!
Name Scoring3: 'Rapport van bevindingen DGC'!$C$119:$C$125
Name Scoring3: #REF!

Sheet Leeswijzer
B1: Leeswijzer Rapport van bevindingen
B3: Algemeen | D3: Rapport van bevindingen DGC
B4: In tabblad "Algemeen" staan kerngegevens van de KR en een uitleg van de legenda. | D4: In dit tabblad vindt u per criterium de beoordeling van het SSC-DG. De beoordeling bestaat uit een documentenbeoordeling, een volwassenheidsscore, eventuele aanvullende vragen, beoordeling door DGC-leden en eventueel advies voor doorontwikkeling. Criterium nummer (kolom B) In deze kolom vindt u een verwijzing naar de nummering van de verschillende criteria. Criteria (kolom C) In deze kolom vindt u de namen van de verschillende criteria, samen met een beschrijving van de specifieke onderdelen die bij elk criterium horen. Volwassenheidsniveau (kolom D) In deze kolom vindt u de verdeling van het volwassenheidsniveau (VHS) per criterium. Aandachtspunten bij documentbeoordeling (kolom E) In deze kolom vindt u per criterium de punten waar het SSC-DG naar kijkt. Voldaan aan element? (kolom F) In deze kolom staat de score per element. Voldaan aan criterium? (kolom G) In deze kolom staat de score per criterium. Redenatie bij voorlopige bevindingen (kolom H) Op basis van de voorlopige bevindingen wordt een score bepaald. Kolom H wordt gevuld met eventuele opmerkingen wanneer er niet of onvoldoende wordt voldaan aan de bewijslast van het element. Scoring volwassenheidsmodel (kolom I) In dit tabblad vindt u de volwassenheidsscore per criterium in een cijfer. Het betreft een dropdown menu. De scores in deze kolom komen terug op het Voorblad. Deze kolom wordt pas gevuld zodra de score definitief is na beoordeling door de commissie. Aanvullende informatie ontvangen na terugkoppeling eerste documentinspectie (kolom J) Eventuele toelichting op tussentijdse aanlevering van extra bewijsstukken. Opmerking feitelijke bevindingen (kolom K) In deze kolom worden door het SSC-DG eventuele aanvullende vragen gesteld over het betreffende criterium. Beoordeling door DGC leden (kolom L) In deze kolom wordt de definitieve beoordeling van de DGC toegelicht. Advies voor doorontwikkeling (kolom M) Indien van toepassing wordt er een advies voor doorontwikkeling gegeven om naar een hoger volwassenheidsscore te komen. Reactie KR (kolom O) In het beoordelingsproces krijgt de KR de mogelijkheid te reageren op het rapport van bevindingen. In deze kolom kan een reactie worden gegeven. Ook kunnen hier eventuele aanvullende bewijsstukken toegelicht worden. In dat geval graag aangeven waar in het bewijsstuk naar wordt verwezen. Probeer hier maximaal 500 woorden voor te gebruiken.
B6: Voorblad
B7: Het voorblad dient als samenvatting van de gehele beoordeling. Op dit tabblad wordt per onderdeel de volwassenheidsscore, toelichting en advies getoond. Door het vullen van het tabblad "Rapport van bevindingen"/ "Beoordelingsdocument" worden de velden in dit tabblad automatisch gevuld.
B9: Bewijsstukken
B10: In het tabblad "Bewijsstukken" is een overzicht te vinden van de lijst met alle mogelijke bewijsstukken voor de criteria. Per bewijsstuk worden bijgehouden: naam, verzender, ontvangstdatum en eventuele extra uitvraag.
B12: Bewijs criterium X
B13: Er zijn in totaal 11 tabbladen voor de bewijsstukken per criterium. Document Per criterium staan de mogelijke bewijsstukken die nodig zijn voor de beoordeling van het criterium. Documentnaam Hier zijn de bestandsnamen van de aangeleverde bewijsstukken door de KR te vinden Item In de beoordeling wordt er verwezen naar bewijsstukken en items. Onder de items worden de screenshots geplaatst waar het SSC-DG de beoordeling op baseert.

Sheet Verbergen - Extra cellen
D1: Ja
D2: Nee
A3: Gemiddelden criteria | C3: 0 | D3: =#REF! -> #REF!
C4: 1 | D4: =#REF! -> #REF!
C5: 2 | D5: =AVERAGE(#REF!) -> #REF!
C6: 3 | D6: =AVERAGE(#REF!) -> #REF!
C7: 4 | D7: =AVERAGE(#REF!) -> #REF!
C8: 5 | D8: =AVERAGE(#REF!) -> #REF!
C9: 6 | D9: =AVERAGE(#REF!) -> #REF!
C10: 7 | D10: =AVERAGE(#REF!) -> #REF!
C11: 8 | D11: =AVERAGE(#REF!) -> #REF!
C12: 9 | D12: =AVERAGE(#REF!) -> #REF!
C13: 10 | D13: =AVERAGE(#REF!) -> #REF!

Sheet Algemeen
B2: Algemene informatie ten aanzien van de beoordeling
B4: Gegevens beoordeling
B6: 1 | C6: Contactpersoon & contactgegevens
B7: 2 | C7: Kwaliteitsregistratie
B8: 3 | C8: Registratiehouder
B9: 4 | C9: Dataverwerker
B11: Legenda scoring volwassenheidsmodel
B13: 0 | C13: Voldoet niet aan minimum vereisten
B14: 1 | C14: Voldoet aan minimum vereisten
B15: 2 | C15: Voldoet aan groeipad
B16: Niet voldaan | C16: Voldoet niet aan vereisten
B17: Voldaan | C17: Voldoet aan vereisten
B18: Niet te beoordelen | C18: Met de aangeleverde bewijsstukken kan geen documentbeoordeling worden uitgevoerd
B19: Niet van toepassing | C19: Op het betreffende voorcriterium wordt niet getoetst

Sheet Voorblad
A2: Samenvatting beoordeling commissie
C3: n/a
A4: Criterium | B4: Onderdeel | C4: Volwassenheidsniveau
A5: 1.1 | B5: Hergebruik data | C5: ='Rapport van bevindingen DGC'!I6 -> 0 | F5: Niveau | G5: Aantallen | H5: # Knock out
A6: 2.1 | B6: Gebruik gegevensstandaarden | C6: ='Rapport van bevindingen DGC'!I10 -> 0 | F6: VHS0 | G6: =COUNTIF(C5:C26,0) -> 22 | H6: =COUNTIF(C5,0)+COUNTIF(C10,0)+COUNTIF(C14,0)+COUNTIF(C15,0)+COUNTIF(C18,0)+COUNTIF(C19,0)+COUNTIF(C20,0)+COUNTIF(C21,0)+COUNTIF(C22,0)+COUNTIF(C23,0)+COUNTIF(C24,0)+COUNTIF(C25,0)+COUNTIF(C26,0) -> 13
A7: 2.2 | B7: Gebruik DT/VT | C7: ='Rapport van bevindingen DGC'!I13 -> 0 | F7: VHS1 | G7: =COUNTIF(C5:C26,1) -> 0 | H7: =COUNTIF(C5,1)+COUNTIF(C10,1)+COUNTIF(C14,1)+COUNTIF(C15,1)+COUNTIF(C18,1)+COUNTIF(C19,1)+COUNTIF(C20,1)+COUNTIF(C21,1)+COUNTIF(C22,1)+COUNTIF(C23,1)+COUNTIF(C24,1)+COUNTIF(C25,1)+COUNTIF(C26,1) -> 0
A8: 2.3 | B8: Gebruik eenheid van taal | C8: ='Rapport van bevindingen DGC'!I19 -> 0 | F8: VHS2 | G8: =COUNTIF(C5:C26,2) -> 0 | H8: =COUNTIF(C5,2)+COUNTIF(C10,2)+COUNTIF(C14,2)+COUNTIF(C15,2)+COUNTIF(C18,2)+COUNTIF(C19,2)+COUNTIF(C20,2)+COUNTIF(C21,2)+COUNTIF(C22,2)+COUNTIF(C23,2)+COUNTIF(C24,2)+COUNTIF(C25,2)+COUNTIF(C26,2) -> 0
A9: 3.1 | B9: Eliminatie van afgeleide informatie uit dataset | C9: ='Rapport van bevindingen DGC'!I22 -> 0 | F9: Niet te beoordelen | G9: =COUNTIF(C5:C26,"Niet te beoordelen") -> 0 | H9: =COUNTIF(C5,"Niet te beoordelen")+COUNTIF(C10,"Niet te beoordelen")+COUNTIF(C14,"Niet te beoordelen")+COUNTIF(C15,"Niet te beoordelen")+COUNTIF(C18,"Niet te beoordelen")+COUNTIF(C19,"Niet te beoordelen")+COUNTIF(C20,"Niet te beoordelen")+COUNTIF(C21,"Niet te beoordelen")+COUNTIF(C22,"Niet te beoordelen")+COUNTIF(C23,"Niet te beoordelen")+COUNTIF(C24,"Niet te beoordelen")+COUNTIF(C25,"Niet te beoordelen")+COUNTIF(C26,"Niet te beoordelen") -> 0
A10: 4.1 | B10: Toegankelijkheid data dictionary | C10: ='Rapport van bevindingen DGC'!I24 -> 0 | F10: Niet voldaan | G10: =COUNTIF(C5:C26,"Niet voldaan") -> 0 | H10: =COUNTIF(C5,"Niet voldaan")+COUNTIF(C10,"Niet voldaan")+COUNTIF(C14,"Niet voldaan")+COUNTIF(C15,"Niet voldaan")+COUNTIF(C18,"Niet voldaan")+COUNTIF(C19,"Niet voldaan")+COUNTIF(C20,"Niet voldaan")+COUNTIF(C21,"Niet voldaan")+COUNTIF(C22,"Niet voldaan")+COUNTIF(C23,"Niet voldaan")+COUNTIF(C24,"Niet voldaan")+COUNTIF(C25,"Niet voldaan")+COUNTIF(C26,"Niet voldaan") -> 0
A11: 4.2 | B11: Inzichtelijkheid organisatie beheer & onderhoud data dictionary | C11: ='Rapport van bevindingen DGC'!I26 -> 0 | F11: Voldaan | G11: =COUNTIF(C5:C26,"Voldaan") -> 0 | H11: =COUNTIF(C5,"Voldaan")+COUNTIF(C10,"Voldaan")+COUNTIF(C14,"Voldaan")+COUNTIF(C15,"Voldaan")+COUNTIF(C18,"Voldaan")+COUNTIF(C19,"Voldaan")+COUNTIF(C20,"Voldaan")+COUNTIF(C21,"Voldaan")+COUNTIF(C22,"Voldaan")+COUNTIF(C23,"Voldaan")+COUNTIF(C24,"Voldaan")+COUNTIF(C25,"Voldaan")+COUNTIF(C26,"Voldaan") -> 0
A12: 5.1 | B12: Vorm van (her-) aanlevering en teruglevering | C12: ='Rapport van bevindingen DGC'!I30 -> 0 | F12: Niet van toepassing | G12: =COUNTIF(C5:C26,"Niet van toepassing") -> 0 | H12: =COUNTIF(C5,"Niet van toepassing")+COUNTIF(C10,"Niet van toepassing")+COUNTIF(C14,"Niet van toepassing")+COUNTIF(C15,"Niet van toepassing")+COUNTIF(C18,"Niet van toepassing")+COUNTIF(C19,"Niet van toepassing")+COUNTIF(C20,"Niet van toepassing")+COUNTIF(C21,"Niet van toepassing")+COUNTIF(C22,"Niet van toepassing")+COUNTIF(C23,"Niet van toepassing")+COUNTIF(C24,"Niet van toepassing")+COUNTIF(C25,"Niet van toepassing")+COUNTIF(C26,"Niet van toepassing") -> 0
A13: 5.2 | B13: Standaarden rondom aanleverroutes | C13: ='Rapport van bevindingen DGC'!I35 -> 0
A14: 6.1 | B14: Gebruik pseudoniemen | C14: ='Rapport van bevindingen DGC'!I38 -> 0
A15: 6.2 | B15: Verwerking (gepseudonimiseerd) BSN | C15: ='Rapport van bevindingen DGC'!I44 -> 0
A16: 7.1 | B16: Validatiecriteria | C16: ='Rapport van bevindingen DGC'!I45 -> 0
A17: 7.2 | B17: Beschikbaarheid & datakwaliteitsrapportage | C17: ='Rapport van bevindingen DGC'!I48 -> 0
A18: 8.1 | B18: Raamovereenkomst voor deelname | C18: ='Rapport van bevindingen DGC'!I52 -> 0
A19: 8.2 | B19: Verwerkersovereenkomst | C19: ='Rapport van bevindingen DGC'!I53 -> 0
A20: 8.3 | B20: Raamovereenkomst voor dienstverlening | C20: ='Rapport van bevindingen DGC'!I54 -> 0
A21: 9.1 | B21: Beveiliging van de dataverwerking | C21: ='Rapport van bevindingen DGC'!I55 -> 0
A22: 9.2 | B22: DPIA | C22: ='Rapport van bevindingen DGC'!I56 -> 0
A23: 9.3 | B23: FG | C23: ='Rapport van bevindingen DGC'!I61 -> 0
A24: 9.4 | B24: Verwerkingsregister | C24: ='Rapport van bevindingen DGC'!I64 -> 0
A25: 10.1 | B25: De registratiehouder voldoet aantoonbaar aan de eisen van de Wkkgz op het zijn van een rechtspersoon zonder winstoogmerk. | C25: ='Rapport van bevindingen DGC'!I66 -> 0
A26: 10.2 | B26: De kwaliteitsregistratie voldoet aantoonbaar aan de NPS-eis (noodzakelijkheid, proportionaliteit en subsidiariteit) van de Wkkgz. | C26: ='Rapport van bevindingen DGC'!I72 -> 0

Sheet Rapport van bevindingen DGC
B2: Rapport van bevindingen
B4: Criterium nummer | C4: Criteria De specifieke onderdelen van het bijbehorende hoofdthema waarop getoetst wordt. | D4: VHS | E4: Aandachtspunten bij documentbeoordeling | F4: Voldaan aan element? | G4: Voldaan aan criterium? | H4: Redenatie bij voorlopige bevindingen Op basis van de documentbeoordeling in kolom F wordt deze kolom H gevuld met eventuele opmerkingen wanneer er niet of onvoldoende wordt voldaan aan de bewijslast van het element. | I4: Scoring volwassenheidsmodel Zie 'Legenda scoring volwassenheidsmodel' op Tabblad 'Algemeen' | J4: Aanvullende informatie ontvangen na terugkoppeling eerste documentinspectie | K4: Opmerkingen feitelijke bevindingen SSC-DG | L4: Beoordeling door DGC-leden | M4: Advies voor doorontwikkeling Om naar een hoger volwassenheidsniveau te komen | O4: Reactie KR max. 500 woorden
B5: 0.1 | C5: Zie criteria 1 t/m 4.1 | D5: 1 | E5: Criteria 1 t/m 4.1 zijn onderdeel van het SKMS programma. Als de KR aan het programma heeft meegedaan, zouden de gevraagde bewijsstukken bij deze criteria reeds aanwezig moeten zijn. De criteria worden op basis van de gevraagde bewijsstukken beoordeeld: deelname aan het programma betekent niet per definitie dat de KR een voldoende scoort op criteria 1 t/m 4.1. | H5: Op basis van de documentbeoordeling in kolom F zijn er de volgende opmerkingen en/of aanvullingen voor dit criterium: […] | J5: SSC heeft de volgende aanvullende vragen op basis van de ontvangen bewijsstukken: ...
B6: 1.1 Knock-out | C6: Hergebruik data De informatie-uitvraag van de KR is in kaart gebracht per stap van het zorgproces | D6: 1 | E6: Informatie-uitvraag is vastgelegd per stap van het zorgproces, gebruik makend van een erkend model (zoals het ZiRA-procesmodel). [Bewijs criterium 1 - item 1] | H6: Op basis van de documentbeoordeling in kolom F zijn er de volgende opmerkingen en/of aanvullingen voor dit criterium: […] | J6: SSC heeft de volgende aanvullende vragen op basis van de ontvangen bewijsstukken: ...
E7: Er is een onderbouwing indien de KR geen gebruik maakt van een erkend model (zoals het ZiRA-procesmodel). [Bewijs criterium 1 - item 1]
D8: 2 | E8: Zorgpad uitwerking conform ZiRA procesmodel. Daar waar het model niet aansluit, is inzichtelijk wat discrepantie is. [Bewijs criterium 1 - item 2]
E9: Mapping informatiebehoefte zorgpad naar KR: uit elke stap van het zorgproces is duidelijk welke informatie relevant is voor KR. [Bewijs criterium 1 - item 3]
B10: 2.1 | C10: Gebruik gegevensstandaarden De informatie wordt vastgelegd conform de standaarden voor ZIBs | D10: 1 | E10: Voor alle data items waar dit mogelijk is, zijn deze gemapt op ZIBs. [Bewijs criterium 2 - item 1] | H10: Op basis van de documentbeoordeling in kolom F zijn er de volgende opmerkingen en/of aanvullingen voor dit criterium: […] | J10: SSC heeft de volgende aanvullende vragen op basis van de ontvangen bewijsstukken: ...
D11: 2 | E11: Alle gevraagde data items zijn te mappen op bestaande ZIBs en onderliggende waarden sluiten aan op de vigerende code- en waardelijsten. Daar waar het niet aansluit is inzichtelijk wat discrepantie is. [Bewijs criterium 2 - item 1 en 2]
E12: Er is een ontwikkelplan en actief dialoog voor opname van data items in de ZIBs. [Bewijs criterium 2 - item 2]
B13: 2.2 | C13: Gebruik DT & VT Waar van toepassing is de data gecodeerd volgens de DT en VT | D13: 1 | E13: Alle klinische diagnose termen zijn gemapt voor zover deze tijdens totstandkoming van de uitvraag beschikbaar waren in de DT. [Bewijs criterium 2 - item 3] | H13: Op basis van de documentbeoordeling in kolom F zijn er de volgende opmerkingen en/of aanvullingen voor dit criterium: […] | J13: SSC heeft de volgende aanvullende vragen op basis van de ontvangen bewijsstukken: ...
E14: Alle klinische termen voor verrichtingen zijn gemapt voor zover deze tijdens totstandkoming van de uitvraag beschikbaar waren in de VT. [Bewijs criterium 2 - item 5]
D15: 2 | E15: Alle gevraagde klinische diagnose termen (klachten, diagnoses, comorbiditeiten) worden beschreven in de DT of er is een onderbouwing aanwezig waarom wordt afgeweken. [Bewijs criterium 2 - item 4]
E16: Er is een (ontwikkel)plan en actief dialoog voor opname van klinische diagnose termen in de DT. [Bewijs criterium 2 - item 4]
E17: Alle gevraagde klinische termen voor verrichtingen worden beschreven in de VT of er is een onderbouwing aanwezig waarom wordt afgeweken. [Bewijs criterium 2 - item 4]
E18: Er is een ontwikkelplan en actief dialoog voor opname van klinische diagnose termen in de VT. [Bewijs criterium 2 - item 6]
B19: 2.3 | C19: Gebruik Eenheid van Taal De Informatiestandaarden uit de Grondplaat Eenheid van Taal (zoals vastgesteld door het informatieberaad) worden waar van toepassing gebruikt | D19: 1 | E19: Er is een gedetailleerde uitwerking aanwezig van alle data items waarbij in kaart is gebracht of deze gemapt zijn op een ZIB, het DT of VT. [Bewijs criterium 2 - item 7] | H19: Op basis van de documentbeoordeling in kolom F zijn er de volgende opmerkingen en/of aanvullingen voor dit criterium: […] | J19: SSC heeft de volgende aanvullende vragen op basis van de ontvangen bewijsstukken: ...
E20: Alle datapunten die niet gemapt zijn op een ZIB, de DT of VT zijn gemapt naar SNOMED/LOINC/IDMP, of hebben een uitleg waarom dit niet mogelijk is. [Bewijs criterium 2 - item 8]
D21: 2 | E21: N/A. Voor een ideaal scenario wordt voldaan aan criteria 2.1 en 2.2.
B22: 3.1 | C22: Eliminatie van afgeleide informatie uit dataset Er wordt geen afgeleide data uitgevraagd | D22: 1 | E22: Er is een gedocumenteerd beheerproces waarbij ook data optimalisatie wordt behandeld. [Bewijs criterium 3 - item 1] | H22: Op basis van de documentbeoordeling in kolom F zijn er de volgende opmerkingen en/of aanvullingen voor dit criterium: […] | J22: SSC heeft de volgende aanvullende vragen op basis van de ontvangen bewijsstukken: ...
D23: 2 | E23: Geen uitvraag van afgeleide of af te leiden informatie en dataoptimalisatie ten behoeve van bereiken van het verbeterpotentieel. [Bewijs criterium 3 - item 2]
B24: 4.1 Knock-out | C24: Toegankelijkheid data dictionary De informatie over de data dictionary van de KR is toegankelijk via de Registratiehouder en/of de dataverwerker | D24: 1 | E24: De data dictionary is gepubliceerd en openbaar toegankelijk. [Bewijs criterium 4 - item 1] | H24: Op basis van de documentbeoordeling in kolom F zijn er de volgende opmerkingen en/of aanvullingen voor dit criterium: […] | J24: SSC heeft de volgende aanvullende vragen op basis van de ontvangen bewijsstukken: ...
D25: 2 | E25: De technische specificatie is gepubliceerd (evt. In de vorm van verwijzing): Van de datapunten is vermeld wat de aanleverspecificaties per dataveld zijn (zoals datatype en format). Als KR de punten onder toetsingscriterium 2 heeft verwerkt zoals aldaar wordt gevraagd, zou publicatie van de gevraagde Excel voldoende moeten zijn om hier een 2 te scoren. [Bewijs criterium 4 - item 2]
B26: 4.2 | C26: Inzichtelijkheid organisatie beheer & onderhoud data dictionary De KR en dataverwerker hebben het beheer en onderhoud van de data dictionary georganiseerd en kunnen dit aantonen | D26: 1 | E26: Er wordt een beschrijving gegeven van het beheerproces van de data dictionary. Dit betreft een document waarbij duidelijk is dat het beheerproces is afgestemd tussen de registratiehouder en de dataverwerker. [Bewijs criterium 4 - item 3] | H26: Op basis van de documentbeoordeling in kolom F zijn er de volgende opmerkingen en/of aanvullingen voor dit criterium: […] | J26: SSC heeft de volgende aanvullende vragen op basis van de ontvangen bewijsstukken: ...
E27: De volgende elementen moeten minimaal beschreven zijn: - frequentie - hoe dataoptimalisatie wordt toegepast - verbeterpotentieel - welke rollen/expertisen betrokken zijn - omgang met verschillende databronnen/stromen. [Bewijs criterium 4 - item 3]
D28: 2 | E28: Beheer en onderhoud is een ingebed proces in de dagelijkse operatie van de KR, waarbij periodiek gecontroleerd wordt of het proces adequaat functioneert. [Bewijs criterium 4 - item 4]
E29: Het is inzichtelijk hoe de KR wijzigingen in variabelen (datapunten) communiceert aan DV en EPD-leveranciers, en binnen welke tijdspanne aanpassingen doorgevoerd worden. [Bewijs criterium 4 - item 5]
B30: 5.1 | C30: Vorm van (her-) aanlevering en teruglevering De aanlevering van data gebeurt minimaal middels push | D30: 1 | E30: In de praktijk is het de KR uiteraard toegestaan om aan zorgaanbieders die nog niet uploaden een webformulier beschikbaar te stellen. In het geval dat gebruik wordt gemaakt van een webformulier, is het de bedoeling dat dit een tijdelijke oplossing is bij een pilot of overgangsperiode (maximaal 1 jaar). Daarnaast is het niet de bedoeling dat een webformulier de enige aanleverroute is. KR zorgt ervoor dat data minimaal via een van deze twee routes bestanden aangeleverd kunnen worden: 1. Via een gebruiksvriendelijk uploadportal, waar batchbestanden geüpload kunnen worden en de status van verwerking gerapporteerd wordt of 2. automatisch middels FHIR API calls. [Bewijs criterium 5 - item 1] | H30: Op basis van de documentbeoordeling in kolom F zijn er de volgende opmerkingen en/of aanvullingen voor dit criterium: […] | J30: SSC heeft de volgende aanvullende vragen op basis van de ontvangen bewijsstukken: ...
E31: Daarnaast zijn er minimaal afspraken gemaakt over: 1. heraanlevering indien er fouten zitten in de originele aanlevering, 2. de mogelijkheid dat de zorgaanbieder zelf eigen data terug kan vragen. Kwaliteitsrapportage moet bijvoorbeeld teruggevraagd kunnen worden. Of deze mogelijkheid er uiteindelijk is maakt in principe niet uit; belangrijk is dat dit onderwerp is besproken, 3. het ingerichte wijzigingsbeheer: - wijzigingen worden geregistreerd: versiebeheer wordt toegepast op de data zelf, - Elke melding (een fout, een onwaarschijnlijke waarde, een omgerekende waarde) over een aanlevering wordt genoteerd met soort, datum/tijd, reden (uitleg) en een traceer-id naar de aanlevering (de bron waarover de melding gaat) zelf. [Bewijs criterium 5 - item 2]
D32: 2 | E32: Heraanlevering is zo veel mogelijk onnodig gemaakt door goede aanlevering/data beschikbaarheid en data kwaliteit. De aanvraagvorm is geheel automatisch middels FHIR API calls (pull). Wanneer noodzakelijk, is heraanlevering nog wel mogelijk. [Bewijs criterium 5 - item 3]
E33: Data zijn voor zowel eigen gebruik ((mogelijkheid tot) teruglevering) als secundair makkelijk opvraagbaar mits aan bepaalde (door KR vast te stellen) aanvraagcriteria is voldaan. Voor secundair gebruik moet voor elke individuele aanvraag een afweging t.a.v. het delen van de data worden gemaakt (o.a. in het kader van de AVG). [Bewijs criterium 5 - item 4]
E34: Er is wijzigingsbeheer aanwezig: Versiebeheer wordt toegepast op de data zelf en elke melding (een fout, een onwaarschijnlijke waarde, een omgerekende waarde) over een aanlevering wordt genoteerd met soort, datum/tijd, reden (uitleg) en een traceer-ID naar de aanlevering (de bron waarover de melding gaat) zelf. [Bewijs criterium 5 - item 2]
B35: 5.2 | C35: Standaarden rondom aanleverroutes De aanlevering van data is middels gestandaardiseerde bestandsformats | D35: 1 | E35: Via het uploadportal wordt gebruik gemaakt van gestandaardiseerde bestandsformaten bij alle databestanden die worden opgevraagd. Dit staat beschreven in de data dictionary. [Bewijs criterium 5 - item 5] | H35: Op basis van de documentbeoordeling in kolom F zijn er de volgende opmerkingen en/of aanvullingen voor dit criterium: […] | J35: SSC heeft de volgende aanvullende vragen op basis van de ontvangen bewijsstukken: ...
E36: Er wordt een bestandsformaat met metadata gebruikt (bijv. XML of JSON). [Bewijs criterium 5 - item 5]
D37: 2 | E37: Data wordt realtime middels FHIR o.b.v. XML of JSON (geen bestanden maar berichten) verstuurd zodra deze lokaal is aangemaakt of aangepast opdat een KR direct up-to-date is. [Bewijs criterium 5 - item 6]
B38: 6.1 Knock out | C38: Gebruik pseudoniemen Ter bescherming van persoonsgegevens worden pseudoniemen gebruikt voor alle direct identificeerbare persoonsgegevens. Registratiehouder gebruikt persoonsgegevens die zo dicht mogelijk bij de bron zijn gepseudonimiseerd (conform artikel 11p lid 2 Wkkgz). Indien de registratiehouder persoonsgegevens ontvangt die niet of onvoldoende gepseudonimiseerd zijn, dient de registratiehouder het datalekprotocol in werking te stellen conform de AVG. | D38: N.v.t. | E38: De registratiehouder hanteert beleidsregels die elke vorm van- of poging tot heridentificatie van patiënten door medewerkers verbieden. [Bewijs criterium 6 - item 1] | H38: Op basis van de documentbeoordeling in kolom F zijn er de volgende opmerkingen en/of aanvullingen voor dit criterium: […] | J38: SSC heeft de volgende aanvullende vragen op basis van de ontvangen bewijsstukken: ...
E39: De registratiehouder toont aan dat er een proces is ingericht om ontvangen niet gepseudonimiseerde datasets af te handelen conform de vereisten van de AVG. [Bewijs criterium 6 - item 2]
E40: De registratiehouder toont aan dat er procedures zijn ingericht voor het verwerken van gepseudonimiseerde gegevens. [Bewijs criterium 6 - item 3]
E41: De registratiehouder onderbouwt voor elk uitgevraagd (direct) identificerend persoonsgegeven waarom dit noodzakelijk is voor een goede gegevensverwerking voor de betreffende kwaliteitsregistratie. [Bewijs criterium 6 - item 4]
E42: De registratiehouder toont aan hoe met de ontvangen (direct) identificerende persoonsgegevens omgegaan wordt en hoe deze beveiligd worden. [Bewijs criterium 6 - item 5]
...

Sheet Bewijsstukken
B2: Lijst mogelijke bewijsstukken
B4: Nr. | C4: Bewijsstuk naam | D4: Uitleg | E4: Criterium | F4: Noodzakelijk? | G4: Documentnaam aangeleverd bewijsstuk | H4: Ontvangen van | I4: Ontvangstdatum (dd/mm/jjjj) | J4: Extra uitvraag heeft plaatsgevonden (ja/nee)
B5: 1 | C5: Format (ontwikkel)plan | D5: Een format voor een (ontwikkel)plan vindt u op de https://ssc-dg.nl/over-ssc-dg/documenten/. Dit format dient gebruikt te worden bij het beschrijven van een ontwikkelplan m.b.t. de opname van ZIBs en/of klinische termen in de DT en/of VT. | E5: 1.1 t/m 9.4 | F5: Nee
B6: 4 | C6: Einddocument opgeleverd door SKMS programma | D6: Met bewijs dat dit het einddocument betreft (door FMS) | E6: 1.1 t/m 3.1 | F6: Nee, indien: 6 t/m 9
B7: 5 | C7: Uitgewerkt Excel opgeleverd door SKMS programma | D7: Met bewijs dat dit het einddocument betreft (door FMS) | E7: 1.1 t/m 3.1 | F7: Nee, indien: 6 t/m 9
B8: 6 | C8: Mapping naar het ZiRA procesmodel | D8: Conform het meegeleverd Excel format, waarbij gebruikgemaakt wordt van: a) Tabblad Zorgproces informatieanalyse; b) Waar mapping conform het ZiRA procesmodel niet mogelijk is: - toelichting waarom het ZiRA procesmodel niet mogelijk is - mapping conform [een ander] gebruikt model passend bij betreffende KR | E8: 1.1 | F8: Nee, indien: 4 en 5
B9: 7 | C9: Mapping naar ZIBs | D9: Conform het meegeleverd Excel format, waarbij gebruikgemaakt wordt van: a) Tabblad Data Dictionary [kolom C t/m K] b) Waar mapping conform ZIBs niet mogelijk is: - een toelichting waarom niet alle gevraagde data items zijn te mappen op bestaande ZIBs c) (Verwijzing naar) uitwerking van onder ZIBs vallende waardes/codes | E9: 2.1 | F9: Nee, indien: 4 en 5
B10: 8 | C10: Mapping naar klinische temen | D10: Conform het meegeleverd Excel format, waarbij gebruikgemaakt wordt van: a) Tabblad Data Dictionary [Voor DT kolom L-M] b) Tabblad Data Dictionary [Voor VT kolom N-O] c) Waar mapping naar klinische termen niet mogelijk is - een toelichting waarom niet alle klinische termen op DT / VT te mappen zijn | E10: 2.2 | F10: Nee, indien: 4 en 5
B11: 9 | C11: Mapping op Grondplaat Eenheid van Taal | D11: Conform het meegeleverd Excel format, waarbij gebruikgemaakt wordt van: a) Tabblad Data Dictionary [Voor DT kolom R t/m V] b) Waar mapping conform de standaarden uit de Grondplaat niet mogelijk is: - een toelichting waarom niet alle gevraagde klinische data zijn gestructureerd op basis van SNOMED CT/LOINC/IDMP | E11: 2.3 | F11: Nee, indien: 4 en 5
B12: 10 | C12: Verwijzing naar URL data dictionary | D12: Openbare URL van de data dictionary | E12: 3.1, 4.1, 5.2, 7.1 | F12: Ja
B13: 11 | C13: Beheerproces data dictionary | D13: Proces (focus intern) Waarbij de volgende zaken worden aangegeven: - Hoe de beheercyclus geoperationaliseerd wordt; - Hoe handmatige invoer zoveel mogelijk voorkomen wordt. - Omgang met (analyse van) afleidbare datapunten en dataoptimalisatie Proces (focus extern) Er wordt een beschrijving gegeven van het beheerproces van de data dictionary. Dit betreft een document waarbij duidelijk is dat dit is afgestemd tussen de registratiehouder en de dataverwerker. De volgende elementen moeten minimaal beschreven zijn: - frequentie - hoe dataoptimalisatie wordt toegepast - verbeterpotentieel - welke rollen/expertise betrokken zijn - omgang met verschillende databronnen/stromen. Beheer en onderhoud is een ingebed proces in de dagelijkse operatie van de KR, waarbij periodiek gecontroleerd wordt of het proces adequaat functioneert. (Groeipad) Wijzigingsdocument waarin inzichtelijk is voor dataverwerker en EPD-leverancier wat er in welke variabele (datapunt) gewijzigd is. (Groeipad) | E13: 3.1, 4.2 | F13: Ja
B14: 12 | C14: Aanleverinstructies | D14: Denk o.a. aan handleidingen, specificaties (inclusief afspraken over heraanlevering, de mogelijkheid voor de zorgaanbieder om zelf eigen data terug te halen en wijzigingsbeheer) | E14: 5.1 | F14: Ja
B15: 13 | C15: URL en screenshots van het uploadportal | D15: Openbare URL en screenshots waaruit blijkt op welke wijze het portal werkt | E15: 5.1, 5.2 | F15: Nee, indien: 14
B16: 14 | C16: EndPoint / API beschrijving | D16: Bewijs dat er een EndPoint of API is (bijvoorbeeld een URL naar EndPoint of API, inclusief een beschrijving hoe de API werkt). | E16: 5.2 | F16: Nee, indien: 13
B17: 15 | C17: Controle op geharmoniseerde standaarden | D17: Beschrijving dat bij aanlevering gecontroleerd wordt op geharmoniseerde standaarden OF foutmelding bij uploaden van een niet geharmoniseerde standaard. | E17: 5.1, 5.2 | F17: Nee, indien: 14
B18: 16 | C18: Uitgevoerde DPIA van de verwerkingsverantwoordelijke registratiehouder | D18: Check of standaardformat DPIA gebruikt wordt of niet. Zo niet, dan check of in DPIA minimaal de onderdelen vermeld staan die ook gebruikt worden in het standaardformat DPIA. | E18: 6.1 | F18: Ja
B19: 17 | C19: Omschrijving Pseudonimiseringsmaatregelen | D19: Beschrijvingen van pseudonimiseringsmaatregelen, waarin in ieder geval de volgende onderwerpen naar voren komen: - Plek van pseudonimisatie [zo dicht mogelijk bij de bron} - Herhaalbaarheid pseudonimisatie - Tussen registraties zijn personen niet koppelbaar op basis van pseudoniemen zonder aanvullende technische en organisatorische maatregelen. - Beschrijving functiescheiding tussen brondata, pseudonimiseren van en werken met gepseudonimiseerde data - Einddataset waarin te zien is dat pseudoniemen worden gebruikt conform de beschrijving van de pseudonimiseringsmethode. | E19: 6.1 | F19: Ja
B20: 18 | C20: Uitgevoerde DPIA van de verwerkingsverantwoordelijke registratiehouder | D20: Indien er geen gebruik gemaakt wordt van de onafhankelijke DPIA-beoordeling georganiseerd door het SSC-DG, dan wordt er door de registratiehouder als bewijsstuk een verklaring aangeleverd die is ondertekend door een onafhankelijke toetser. Hierin staan minimaal de onderdelen vermeld die ook gebruikt worden in het 'toetsingskader voor format DPIA rapportage' (inclusief verantwoordingstabel) van de onafhankelijke DPIA-beoordelaars van het SSC-DG. De registratiehouder toont ook aan dat de beoordelaar over aantoonbare kennis beschikt en onafhankelijk is. | E20: 6.2, 9.2 | F20: Ja
B21: 19 | C21: Overzicht van gedocumenteerde controls | D21: Overzicht van gedocumenteerde controls (technisch & inhoudelijk document met quality rules), incl. proces voor behandeling van fouten voortkomend uit deze validatie. Indien mogelijk printscreens van deze controls en terugkoppeling in de software, of in het script (bijv. SQL, Python) | E21: 7.1 | F21: Ja
B22: 20 | C22: Testomgeving | D22: URL testomgeving, indien URL niet openbaar/deelbaar is: video dat de testomgeving laat zien OF testalgoritmes | E22: 7.1, 7.2 | F22: Ja
B23: 21 | C23: Aanleverrapportage | D23: Gestandaardiseerd online of offline rapportage(s) voor de zorgaanbieder omtrent de aanlevering en datakwaliteit. o Voorbeeld kwaliteitsrapport of screenshot van portal waar validatie terugkoppeling zichtbaar is. o Contract/SLA van de verwerker met betrekking tot de terugkoppeling van de kwaliteit van de data en metadata. | E23: 7.2 | F23: Ja
B24: 22 | C24: Procedure aanleverrapportage | D24: Gedocumenteerde procedure/instructie omtrent de wijze van rapportage/validatie terugkoppeling, incl. frequentie van terugkoppeling én screenshot dat dit aantoont | E24: 7.2 | F24: Ja
B25: 23 | C25: Getekende raamovereenkomst voor deelname. | D25: Er dient (vanaf de aanvullende toets) minimaal één ondertekende raamovereenkomst voor deelname te zijn aangeleverd. | E25: 8.1 | F25: Ja
B26: 24 | C26: Implementatieplan voor ondertekening voor de nog te sluiten deelnameovereenkomsten. | E26: 8.2 | F26: Nee
B27: 25 | C27: Getekende verwerkersovereenkomst | D27: Check of standaardformat is gebruikt of niet. Zo niet, dan checken of er een onderbouwing is | E27: 8.2 | F27: Ja
B28: 26 | C28: Getekende raamovereenkomst voor dienstverlening | D28: Check of standaardformat is gebruikt of niet. Zo niet, dan checken of er een onderbouwing is | E28: 8.3 | F28: Ja
B29: 27 | C29: Certificaten NEN 7510 en/of ISO 27001 van registratiehouder | D29: Inclusief verklaringen van toepasselijkheid Let op! Indien de verwerkingsverantwoordelijke (registratiehouder) gebruikmaakt van een verwerker, zelf geen persoonsgegevens bewerkt en niet in een eigen online omgeving toegang heeft tot persoonsgegevens, is het voldoende als de verwerkingsverantwoordelijke (registratiehouder) in lijn werkt met de NEN 7510 en NEN 7512 en/of ISO 27001 normen. | E29: 9.1 | F29: Ja
B30: 28 | C30: Certificaten NEN 7510 en/of ISO 27001 van verwerker(s) | D30: Inclusief verklaringen van toepasselijkheid | E30: 9.1 | F30: Ja
B31: 29 | C31: In control statement van het bestuur en verklaring van toepasselijkheid (indien registratiehouder niet is gecertificeerd). | E31: 9.1 | F31: Nee
B32: 30 | C32: Interne audit NEN 7510 en/of ISO27001 van de registratiehouder | D32: Inclusief verklaringen van toepasselijkheid (indien registratiehouder niet is gecertificeerd). | E32: 9.1 | F32: Nee
B33: 31 | C33: Bewijs van de onafhankelijke toets van de DPIA (toetsingskader voor format DPIA rapportage) | E33: 9.2 | F33: Ja
B34: 32 | C34: Beleidsstuk(ken) waarin de PDCA-cylcus van de DPIA staat beschreven | E34: 9.2 | F34: Ja
B35: 33 | C35: Arbeids- of inhuurovereenkomst tussen FG en verwerkingsverantwoordelijke (registratiehouder) | D35: Check of overeenkomst aanwezig en getekend is (Of check of bewijsstuk 35 aangeleverd is, bewijsstuk 33 en 35 zijn niet beide nodig, een van de twee is voldoende) | E35: 9.3 | F35: Ja
B36: 34 | C36: Arbeids- of inhuurovereenkomst tussen FG en diens verwerker(s) | D36: Check of overeenkomst aanwezig en getekend is (Of check of bewijsstuk 36 aangeleverd is, bewijsstuk 34 en 36 zijn niet beide nodig, een van de twee is voldoende) | E36: 9.3 | F36: Ja
B37: 35 | C37: Bewijs van aanmelding van de FG bij de Autoriteit Persoonsgegevens (AP) van de verwerkingsverantwoordelijke (registratiehouder) en de naam van de FG | D37: Check of het bewijs van aanmelding is aangeleverd. (Of check of bewijsstuk 33 aangeleverd is, bewijsstuk 33 en 35 zijn niet beide nodig, één van de twee is voldoende) | E37: 9.3 | F37: Ja
B38: 36 | C38: Bewijs van aanmelding van de FG bij de Autoriteit Persoonsgegevens (AP) van de verwerker en de naam van de FG | D38: Check of het bewijs van aanmelding is aangeleverd. (Of check of bewijsstuk 34 aangeleverd is, bewijsstuk 34 en 36 zijn niet beide nodig, één van de twee is voldoende) | E38: 9.3 | F38: Ja
B39: 37 | C39: Verwijzing naar URL contactgegevens FG verwerkingsverantwoordelijke (registratiehouder) | E39: 9.3 | F39: Ja
B40: 38 | C40: Verwijzing naar URL contactgegevens FG verwerker(s) | E40: 9.3 | F40: Ja
B41: 39 | C41: Verwerkingsregister van verwerkingsverantwoordelijke (registratiehouder) | E41: 9.4 | F41: Ja
B42: 40 | C42: Aangaande het verwerkingsregister van verwerker(s): De ISO/NEN certificaten van de verwerker of Een verklaring van de verwerker dat de kwaliteitsregistratie in hun verwerkingsregister is opgenomen, waarin minimaal de gegevens uit artikel 30 lid 2 AVG zijn opgenomen. | E42: 9.4 | F42: Ja
...

Sheet Bewijs criterium 0.1
B2: Document | C2: 4. Einddocument opgeleverd door SKMS programma | M2: Documentnaam | N2: =Bewijsstukken!G6 -> 0
B3: Document | C3: 5. Uitgewerkt Excel opgeleverd door SKMS programma | M3: Documentnaam | N3: =Bewijsstukken!G7 -> 0
A4: Criterium
A5: 0.1 | B5: Item 1 - Einddocument opgeleverd door SKMS programma
C7: Printscreen van het einddocument
A33: Criterium
A34: 0.1 | B34: Item 2 - Uitgewerkt Excel opgeleverd door SKMS programma
C36: Printscreen van de bijbehorende excel

Sheet Bewijs criterium 1
B2: Document | C2: 4. Einddocument opgeleverd door SKMS programma | M2: Documentnaam | N2: =Bewijsstukken!G6 -> 0
B3: Document | C3: 5. Uitgewerkt Excel opgeleverd door SKMS programma | M3: Documentnaam | N3: =Bewijsstukken!G7 -> 0
B4: Document | C4: 6. Mapping naar het ZiRA procesmodel | M4: Documentnaam | N4: =Bewijsstukken!G8 -> 0
A5: Criterium
A6: 1.1 | B6: Item 1 - Informatie-uitvraag is vastgelegd per stap van het zorgproces.
C8: Printscreen relevante documentatie
A32: Criterium
A33: 1.1 | B33: Item 2 - De stappen van het zorgproces zijn conform het ZiRA procesmodel.
C35: Printscreen relevante documentatie
A59: Criterium
A60: 1.1 | B60: Item 3 - Mapping informatiebehoefte zorgpad naar KR
C62: Printscreen relevante documentatie

Sheet Bewijs criterium 2
B2: Document | C2: 4. Einddocument opgeleverd door SKMS programma | M2: Documentnaam | N2: =Bewijsstukken!G6 -> 0
B3: Document | C3: 5. Uitgewerkt Excel opgeleverd door SKMS programma | M3: Documentnaam | N3: =Bewijsstukken!G7 -> 0
B4: Document | C4: 7. Mapping naar ZIBs | M4: Documentnaam | N4: =Bewijsstukken!G9 -> 0
B5: Document | C5: 8. Mapping naar klinische temen (DT & VT) | M5: Documentnaam | N5: =Bewijsstukken!G10 -> 0
B6: Document | C6: 9. Mapping op Grondplaat Eenheid van Taal | M6: Documentnaam | N6: =Bewijsstukken!G11 -> 0
A7: Criterium
A8: 2.1 | B8: Item 1 - Er is een gedetailleerde uitwerking aanwezig van de gevraagde data items van de KR naar ZIBs
C10: Printscreen relevante documentatie
A34: Criterium
A35: 2.1 | B35: Item 2 - Er is een ontwikkelplan en actief dialoog voor opname van data items in de ZIBs.
C37: Printscreen relevante documentatie
A67: Criterium
A68: 2.2 | B68: Item 3 - De klinische diagnose termen zijn gemapt in de DT.
C70: Printscreen relevante documentatie
A94: Criterium
A95: 2.2 | B95: Item 4 - Er is een ontwikkelplan en actief dialoog voor opname van klinische diagnose termen in de DT.
C97: Printscreen relevante documentatie
A121: Criterium
A122: 2.2 | B122: Item 5 - De klinische termen voor verrichtingen zijn gemapt in de VT.
C124: Printscreen relevante documentatie
A148: Criterium
A149: 2.2 | B149: Item 6 - Er is een ontwikkelplan en actief dialoog voor opname van klinische diagnose termen in de VT.
C151: Printscreen relevante documentatie
A172: Criterium
A173: 2.3 | B173: Item 7 - Er is een gedetailleerde uitwerking aanwezig van alle data items waarbij in kaart is gebracht of deze gemapt zijn op een ZIB, het DT of VT.
C175: Printscreen relevante documentatie
A199: Criterium
A200: 2.3 | B200: Item 8 - Alle datapunten die niet gemapt zijn op een ZIB, de DT of VT zijn gemapt naar SNOMED/LOINC/IDMP, of hebben een uitleg waarom dit niet mogelijk is.
C202: Printscreen relevante documentatie

Sheet Bewijs criterium 3
B2: Document | C2: 4. Einddocument opgeleverd door SKMS programma | M2: Documentnaam | N2: =Bewijsstukken!G6 -> 0
B3: Document | C3: 5. Uitgewerkt Excel opgeleverd door SKMS programma | M3: Documentnaam | N3: =Bewijsstukken!G7 -> 0
B4: Document | C4: 10. Verwijzing naar URL data dictionary | M4: Documentnaam | N4: =Bewijsstukken!G12 -> 0
B5: Document | C5: 11. Beheerproces data dictionary | M5: Documentnaam | N5: =Bewijsstukken!G13 -> 0
A6: Criterium
A7: 3.1 | B7: Item 1 - Er is een gedocumenteerd beheerproces waarbij ook data optimalisatie wordt behandeld.
C9: Printscreen relevante documentatie
A33: Criterium
A34: 3.1 | B34: Item 2 - Geen uitvraag van afgeleide of af te leiden informatie en dataoptimalisatie ten behoeve van bereiken van het verbeterpotentieel.
C36: Printscreen relevante documentatie

Sheet Bewijs criterium 4
B2: Document | C2: 10. Verwijzing naar URL data dictionary | M2: Documentnaam | N2: =Bewijsstukken!G12 -> 0
B3: Document | C3: 11. Beheerproces data dictionary | M3: Documentnaam | N3: =Bewijsstukken!G13 -> 0
A4: Criterium
A5: 4.1 | B5: Item 1 - De data dictionary is gepubliceerd en openbaar toegankelijk.
C7: Printscreen relevante documentatie
A31: Criterium
A32: 4.1 | B32: Item 2 - De technische specificatie is gepubliceerd (evt. In de vorm van verwijzing)
C34: Printscreen relevante documentatie
A58: Criterium
A59: 4.2 | B59: Item 3 - Er wordt een beschrijving gegeven van het beheerproces van de data dictionary.
C61: Printscreen relevante documentatie
A85: Criterium
A86: 4.2 | B86: Item 4 - Beheer en onderhoud is een ingebed proces in de dagelijkse operatie van de KR
C88: Printscreen relevante documentatie
A112: Criterium
A113: 4.2 | B113: Item 5 - Inzichtelijk hoe de kwaliteitsregistratiehouder wijzigingen communiceert aan DV en EPD-leveranciers, en binnen welke tijdspanne aanpassingen doorgevoerd worden
C115: Printscreen relevante documentatie

Sheet Bewijs criterium 5
B2: Document | C2: 10. Verwijzing naar URL data dictionary | M2: Documentnaam | N2: =Bewijsstukken!G12 -> 0
B3: Document | C3: 12. Aanleverinstructies | M3: Documentnaam | N3: =Bewijsstukken!G14 -> 0
B4: Document | C4: 13. URL en screenshots van het uploadportal | M4: Documentnaam | N4: =Bewijsstukken!G15 -> 0
B5: Document | C5: 14. Endpoint / API beschrijving | M5: Documentnaam | N5: =Bewijsstukken!G16 -> 0
B6: Document | C6: 15. Controle op geharmoniseerde standaarden | M6: Documentnaam | N6: =Bewijsstukken!G17 -> 0
A7: Criterium
A8: 5.1 | B8: Item 1 - KR zorgt ervoor dat data via batch-bestanden aangeleverd kunnen worden
C10: Printscreen relevante documentatie
A34: Criterium
A35: 5.1 | B35: Item 2 - Er zijn minimaal afspraken gemaakt over: 1. heraanlevering indien er fouten zitten in de originele aanlevering 2. de mogelijkheid dat de zorgaanbieder zelf eigen data kan terughalen 3. er is wijzigingsbeheer aanwezig
C37: Printscreen relevante documentatie
A61: Criterium
A62: 5.1 | B62: Item 3 - Overal is de heraanlevering onnodig gemaakt door goede aanlevering/data beschikbaarheid en data kwaliteit. De aanvraagvorm is geheel automatisch middels FHIR API calls (pull) (in batch)
C64: Printscreen relevante documentatie
A88: Criterium
A89: 5.1 | B89: Item 4 - Data zijn voor zowel eigen gebruik ((mogelijkheid tot) teruglevering) als secundair makkelijk opvraagbaar mits aan bepaalde (door KR vast te stellen) aanvraagcriteria is voldaan
C91: Printscreen relevante documentatie
A115: Criterium
A116: 5.2 | B116: Item 5 - Via het uploadportal wordt gebruik gemaakt van gestandaardiseerde bestandsformaten bij alle databestanden die worden opgevraagd
C118: Printscreen relevante documentatie
A142: Criterium
A143: 5.2 | B143: Item 6 - De data worden realtime aangeleverd via een API
C145: Printscreen relevante documentatie

Sheet Bewijs criterium 6
B2: Document | C2: 16. Uitgevoerde DPIA van de verwerkingsverantwoordelijke registratiehouder | M2: Documentnaam | N2: =Bewijsstukken!G18 -> 0
B3: Document | C3: 46. Beleidstukken bij ontbreken DPIA | M3: Documentnaam | N3: =Bewijsstukken!G48 -> 0
B4: Document | C4: 17. Omschrijving Pseudonimiseringsmaatregelen | M4: Documentnaam | N4: =Bewijsstukken!G19 -> 0
B5: Document | C5: 18. Uitgevoerde DPIA van de verwerkingsverantwoordelijke registratiehouder | M5: Documentnaam | N5: =Bewijsstukken!G20 -> 0
A6: Criterium
A8: 6.1 | B8: Item 1 - De registratiehouder hanteert beleidsregels die elke vorm van- of poging tot heridentificatie van patiënten door medewerkers verbieden.
C10: Printscreen relevante documentatie
A34: Criterium
A35: 6.1 | B35: Item 2 - De registratiehouder toont aan dat er een proces is ingericht om ontvangen niet gepseudonimiseerde datasets af te handelen conform de vereisten van de AVG
C37: Printscreen relevante documentatie
A61: Criterium
A62: 6.1 | B62: Item 3 - De registratiehouder toont aan dat er procedures zijn ingericht voor het verwerken van gepseudonimiseerde gegevens.
C64: Printscreen relevante documentatie
A88: Criterium
A89: 6.1 | B89: Item 4 - De registratiehouder onderbouwt voor elk uitgevraagd (direct) identificerend persoonsgegeven waarom dit noodzakelijk is voor een goede gegevensverwerking voor de betreffende kwaliteitsregistratie.
C91: Printscreen relevante documentatie
A115: Criterium
A116: 6.1 | B116: Item 5 - De registratiehouder toont aan hoe met de ontvangen (direct) identificerende persoonsgegevens omgegaan wordt en hoe deze beveiligd worden.
C118: Printscreen relevante documentatie
A142: Criterium
A143: 6.1 | B143: Item 6 - De registratiehouder toont aan dat er procedures zijn ingericht voor koppelen, met of tussen andere datasets, gebaseerd op pseudoniemen behorend bij een natuurlijk persoon.
C145: Printscreen relevante documentatie
A169: Criterium
A170: 6.2 | B170: Item 7 - Uit de DPIA blijkt dat het (gepseudonimiseerd) BSN niet verwerkt wordt, tenzij hier een wettelijke grondslag voor is.
C172: Printscreen relevante documentatie

Sheet Bewijs criterium 7
B2: Document | C2: 10. Verwijzing naar URL data dictionary | M2: Documentnaam | N2: =Bewijsstukken!G12 -> 0
B3: Document | C3: 19. Overzicht van gedocumenteerde controls | M3: Documentnaam | N3: =Bewijsstukken!G21 -> 0
B4: Document | C4: 20. Testomgeving | M4: Documentnaam | N4: =Bewijsstukken!G22 -> 0
B5: Document | C5: 21. Aanleverrapportage | M5: Documentnaam | N5: =Bewijsstukken!G23 -> 0
B6: Document | C6: 22. Procedure aanleverrapportage | M6: Documentnaam | N6: =Bewijsstukken!G24 -> 0
A7: Criterium
A8: 7.1 | B8: Item 1 - KR kan een document met quality rules laten zien dat bevat hoe er gevalideerd wordt op inkomende data
C10: Printscreen relevante documentatie
A34: Criterium
A35: 7.1 | B35: Item 2 - Er is een data dictionary beschikbaar en er wordt getest op alle beschreven validaties op: • de uploads (datatype, dataformaat, codestelsels en inhoud); • het proces (metadata aanwezig en juist); en • de samenhang (indien dezelfde data uit verschillende bronnen samenkomt, inclusief business rules om dit te verwerken). • de inhoudelijke data (sanity checks op de juistheid van de data).
C37: Printscreen relevante documentatie
A61: Criterium
A62: 7.2 | B62: Item 3 - Er is een gestandaardiseerde wijze van [terugkoppeling van] de uitgevoerde validaties
C64: Printscreen relevante documentatie
A88: Criterium
A89: 7.2 | B89: Item 4 - Er is een gedocumenteerde procedure waarin minimaal wordt vastgelegd: - Hoe en wanneer er heldere terugkoppeling naar de aanleverende zorgaanbieder plaatsvindt - Welke validaties worden uitgevoerd
C91: Printscreen relevante documentatie
A115: Criterium
A116: 7.2 | B116: Item 5 - Er is een real-time geautomatiseerde gestandaardiseerde rapportage beschikbaar over de kwaliteit en de validatie van de aangeleverde data, en toegang wordt ondersteund door gebruik van een landelijk gestandaardiseerde SSO (bv. Surfconext)
C118: Printscreen relevante documentatie

Sheet Bewijs criterium 8
B2: Document | C2: 23. Getekende raamovereenkomst voor deelname | M2: Documentnaam | N2: =Bewijsstukken!G25 -> 0
B3: Document | C3: 24. Implementatieplan voor de ondertekening van de nog te sluiten deelnameovereenkomsten | M3: Documentnaam | N3: =Bewijsstukken!G26 -> 0
B4: Document | C4: 25. Getekende verwerkersovereenkomst | M4: Documentnaam | N4: =Bewijsstukken!G27 -> 0
B5: Document | C5: 26. Getekende raamovereenkomst voor dienstverlening | M5: Documentnaam | N5: =Bewijsstukken!G28 -> 0
A6: Criterium
A7: 8.1 | B7: Item 1 - Raamovereenkomst voor deelname
C9: Printscreen relevante documentatie
A33: Criterium
A34: 8.2 | B34: Item 2 - Verwerkersovereenkomst
C36: Printscreen relevante documentatie
A60: Criterium
A61: 8.3 | B61: Item 3 - Raamovereenkomst voor dienstverlening
C63: Printscreen relevante documentatie

Sheet Bewijs criterium 9
B2: Document | C2: 18. Uitgevoerde DPIA van de verwerkingsverantwoordelijke registratiehouder | M2: Documentnaam | N2: =Bewijsstukken!G20 -> 0
B3: Document | C3: 27. Certificaten NEN 7510 en/of ISO 27001 van registratiehouder | M3: Documentnaam | N3: =Bewijsstukken!G29 -> 0
B4: Document | C4: 28. Certificaten NEN 7510 en/of ISO 27001 van verwerker(s) | M4: Documentnaam | N4: =Bewijsstukken!G30 -> 0
B5: Document | C5: 29. In control statement van het bestuur en verklaring van toepasselijkheid (indien registratiehouder niet is gecertificeerd). | M5: Documentnaam | N5: =Bewijsstukken!G31 -> 0
B6: Document | C6: 30. Interne audit NEN 7510 en/of ISO27001 van de registratiehouder | M6: Documentnaam | N6: =Bewijsstukken!G32 -> 0
B7: Document | C7: 31. Bewijs van de onafhankelijke toets van de DPIA (toetsingskader voor format DPIA rapportage) | M7: Documentnaam | N7: =Bewijsstukken!G33 -> 0
B8: Document | C8: 32. Beleidsstuk(ken) waarin de PDCA-cylcus van de DPIA staat beschreven | M8: Documentnaam | N8: =Bewijsstukken!G34 -> 0
B9: Document | C9: 45. Ingevulde verantwoordingstabel | M9: Documentnaam | N9: =Bewijsstukken!G47 -> 0
B10: Document | C10: 46. Getekende verklaring onafhankelijkheid | M10: Documentnaam | N10: =Bewijsstukken!G48 -> 0
B11: Document | C11: 33. Arbeids- of inhuurovereenkomst tussen FG en verwerkingsverantwoordelijke (registratiehouder) | M11: Documentnaam | N11: =Bewijsstukken!G35 -> 0
B12: Document | C12: 34. Arbeids- of inhuurovereenkomst tussen FG en diens verwerker(s) | M12: Documentnaam | N12: =Bewijsstukken!G36 -> 0
B13: Document | C13: 35. Bewijs van aanmelding van de FG bij de Autoriteit Persoonsgegevens (AP) van de verwerkingsverantwoordelijke (registratiehouder) en de naam van de FG is doorgegeven. | M13: Documentnaam | N13: =Bewijsstukken!G37 -> 0
B14: Document | C14: 36. Bewijs van aanmelding van de FG bij de Autoriteit Persoonsgegevens (AP) van de verwerker en de naam van de FG is doorgegeven. | M14: Documentnaam | N14: =Bewijsstukken!G38 -> 0
B15: Document | C15: 37. Verwijzing naar URL contactgegevens FG verwerkingsverantwoordelijke (registratiehouder) | M15: Documentnaam | N15: =Bewijsstukken!G39 -> 0
B16: Document | C16: 38. Verwijzing naar URL contactgegevens FG verwerker(s) | M16: Documentnaam | N16: =Bewijsstukken!G40 -> 0
B17: Document | C17: 39. Verwerkingsregister van verwerkingsverantwoordelijke (registratiehouder) | M17: Documentnaam | N17: =Bewijsstukken!G41 -> 0
B18: Document | C18: 40. Aangaande verwerkingsregister van verwerker(s): De ISO/NEN certificaten van de verwerker of Een verklaring van de verwerker dat de kwaliteitsregistratie in hun verwerkingsregister is opgenomen, waarin minimaal de gegevens uit artikel 30 lid 2 AVG zijn opgenomen. | M18: Documentnaam | N18: =Bewijsstukken!G42 -> 0
A19: Criterium
A20: 9.1 | B20: Item 1 - De verwerkingsverantwoordelijke (registratiehouder) en diens verwerker(s) zijn gecertificeerd voor de NEN 7510 en/of ISO 27001.
C22: Printscreen relevante documentatie
A46: Criterium
A47: 9.2 | B47: Item 2 - De registratiehouder heeft een DPIA uitgevoerd waarbij gebruikgemaakt is van de standaard 'DPIA-rapportagemodel DGC'. Indien de standaard 'DPIA-rapportagemodel DGC' niet is gehanteerd, is er een DPIA uitgevoerd waarin minimaal dezelfde onderwerpen als in de standaard zijn beschreven. Tevens is in dit geval een gedegen onderbouwing aangeleverd waarom de standaard 'DPIA-rapportagemodel DGC' niet is gebruikt.
C49: Printscreen relevante documentatie
A73: Criterium
A74: 9.2 | B74: Item 3 - De ingevulde verantwoordingstabel is als bijlage beschikbaar bij de DPIA.
C76: Printscreen relevante documentatie
A100: Criterium
A101: 9.2 | B101: Item 4 - De registratiehouder heeft de DPIA onafhankelijk laten beoordelen.
C103: Printscreen relevante documentatie
A127: Criterium
A128: 9.2 | B128: Item 5 - De verschillende onderdelen, beoordeeld door de onafhankelijke expert voldoen aan de AVG
C130: Printscreen relevante documentatie
A154: Criterium
A155: 9.2 | B155: Item 6 - De registratiehouder hanteert een PDCA-cyclus op de bevindingen uit de DPIA en toont dit via documentatie aan.
C157: Printscreen relevante documentatie
A181: Criterium
A182: 9.3 | B182: Item 7 - De verwerkingsverantwoordelijke (registratiehouder) en diens verwerker(s) hebben een FG aangewezen.
C184: Printscreen relevante documentatie
A208: Criterium
A209: 9.3 | B209: Item 8 - Met de FG van de verwerkingsverantwoordelijke (registratiehouder) en diens verwerker(s) is een arbeids- of inhuurovereenkomst gesloten of er is een bewijs van aanmelding van de FG bij de AP en de naam van de FG is doorgegeven.
...

Sheet Bewijs criterium 10
B2: Document | C2: 41. Inschrijving KvK | M2: Documentnaam | N2: =Bewijsstukken!G43 -> 0
B3: Document | C3: 42. Verklaring registratiehouder (brief) | M3: Documentnaam | N3: =Bewijsstukken!G44 -> 0
B4: Document | C4: 43. Statuten | M4: Documentnaam | N4: =Bewijsstukken!G45 -> 0
B5: Document | C5: 44. Verantwoording gegevensuitvraag conform Wkkgz | M5: Documentnaam | N5: =Bewijsstukken!G47 -> 0
A6: Criterium
A7: 10.1 | B7: Item 1 - Er is een inschrijving bij de KvK waaruit blijkt dat de registratiehouder een stichting of vereniging is en de bestuurders natuurlijke personen zijn.
C9: Printscreen relevante documentatie
A33: Criterium
A34: 10.1 | B34: Item 2 - Registratiehouder verklaart dat: In de statuten opgenomen is dat het maken van winst niet beoogd wordt.
C36: Printscreen relevante documentatie
A60: Criterium
A61: 10.1 | B61: Item 3 - Registratiehouder verklaart dat: In de statuten opgenomen is dat een eventueel batig saldo bij ontbinding of vereffening besteed wordt overeenkomstig het doel van de stichting of vereniging.
C63: Printscreen relevante documentatie
A87: Criterium
A88: 10.1 | B88: Item 4 - Registratiehouder verklaart dat: De redeijke belonging voor werkzaamheden van bestuurders ligt niet boven het bezoldigingsmaximum uit de Wet normering topinkomens (WNT). Naast de redelijke beloning ven vergoeding van de door bestuurders in hun functie gemaakte kosten orden aan bestuurders géén uitkeringen gedaan.
C90: Printscreen relevante documentatie
A114: Criterium
A115: 10.1 | B115: Item 5 - Registratiehouder verklaart dat: Indien hij een stichting is, er géén uitkeringen aan oprichters worden gedaan.
C117: Printscreen relevante documentatie
A141: Criterium
A142: 10.1 | B142: Item 6 - Registratiehouder verklaart dat: Indien hij een vereniging is, er géén uitkeringen aan zijn leden worden gedaan.
C144: Printscreen relevante documentatie
A168: Criterium
A169: 10.2 | B169: Item 7 - De kwaliteitsregistratie voldoet aantoonbaar aan de noodzakelijkheids-, proportionaliteits- en subsidairiteitseisen zoals bedoeld in artikel 7ab van de ministeriële regeling van de (gewijzigde) Wkkgz.
C171: Printscreen relevante documentatie
A195: Criterium
A196: 10.2 | B196: Item 8 - Hierbij wordt onder andere beoordeeld of de onderbouwing van de kwaliteitsregistratie voldoet voor de data-uitvraag per variabele, per indicator, per categorie zorgaanbieders en voor de totale data-uitvraag aan de NPS-eisen uit de Wkkgz.
C198: Printscreen relevante documentatie
